BEGIN:VCALENDAR
VERSION:2.0
PRODID:-//Rendez-vous en terre agricole - ECPv6.15.20//NONSGML v1.0//EN
CALSCALE:GREGORIAN
METHOD:PUBLISH
X-ORIGINAL-URL:https://rdvta.hainaut-developpement.be
X-WR-CALDESC:Évènements pour Rendez-vous en terre agricole
REFRESH-INTERVAL;VALUE=DURATION:PT1H
X-Robots-Tag:noindex
X-PUBLISHED-TTL:PT1H
BEGIN:VTIMEZONE
TZID:Europe/Brussels
BEGIN:DAYLIGHT
TZOFFSETFROM:+0100
TZOFFSETTO:+0200
TZNAME:CEST
DTSTART:20250330T010000
END:DAYLIGHT
BEGIN:STANDARD
TZOFFSETFROM:+0200
TZOFFSETTO:+0100
TZNAME:CET
DTSTART:20251026T010000
END:STANDARD
BEGIN:DAYLIGHT
TZOFFSETFROM:+0100
TZOFFSETTO:+0200
TZNAME:CEST
DTSTART:20260329T010000
END:DAYLIGHT
BEGIN:STANDARD
TZOFFSETFROM:+0200
TZOFFSETTO:+0100
TZNAME:CET
DTSTART:20261025T010000
END:STANDARD
BEGIN:DAYLIGHT
TZOFFSETFROM:+0100
TZOFFSETTO:+0200
TZNAME:CEST
DTSTART:20270328T010000
END:DAYLIGHT
BEGIN:STANDARD
TZOFFSETFROM:+0200
TZOFFSETTO:+0100
TZNAME:CET
DTSTART:20271031T010000
END:STANDARD
END:VTIMEZONE
BEGIN:VEVENT
DTSTART;VALUE=DATE:20260501
DTEND;VALUE=DATE:20260601
DTSTAMP:20260421T203803
CREATED:20260417T120558Z
LAST-MODIFIED:20260417T120558Z
UID:2608-1777593600-1780271999@rdvta.hainaut-developpement.be
SUMMARY:Balades audioguidées pour comprendre les paysages agricoles
DESCRIPTION:Á l’aide de l’application «smart guide» téléchargeable sur votre smartphone\, partez à pied ou à vélo\, à la découverte des paysages agricoles autour de Mons\, de Petit-Roeulx-Lez-Braine\, de Soignies. \nToute l’information : https://rdvta.hainaut-developpement.be/activite/balades-audioguidees-pour-comprendre-les-paysages-agricoles-3/
URL:https://rdvta.hainaut-developpement.be/agenda/balades-audioguidees-pour-comprendre-les-paysages-agricoles/
ATTACH;FMTTYPE=image/jpeg:https://rdvta.hainaut-developpement.be/wp-content/uploads/2026/04/DSC_0947-Moyenne.jpeg
END:VEVENT
BEGIN:VEVENT
DTSTART;TZID=Europe/Brussels:20260501T090000
DTEND;TZID=Europe/Brussels:20260530T160000
DTSTAMP:20260421T203803
CREATED:20260416T171716Z
LAST-MODIFIED:20260416T172038Z
UID:2478-1777626000-1780156800@rdvta.hainaut-developpement.be
SUMMARY:Portes ouvertes à la ferme de Cantraine
DESCRIPTION:Durant tout le mois de mai\, la Ferme pédagogique de Cantraine ouvre ses portes\naux écoles\, aux institutions accompagnant des personnes en situation de handicap\, ainsi qu’aux familles. A l’occasion de la visite\, vous découvrirez les différents bâtiments de la ferme\, vous participerez au nourrissage des animaux\, vous aurez la possibilité de traire une vache en bois et de participer au concours du meilleur trayeur. Au travers de petites vidéos\, vous découvrirez différents produits fabriqués à partir du lait. Enfin\, une dégustation des produits de la ferme clôturera en beauté la visite de la ferme + visite en école. Une balade gourmande sera également proposée dans les beaux villages de la commune du Roeulx le samedi 23 mai. \nToute l’information : https://rdvta.hainaut-developpement.be/activite/portes-ouvertes-a-la-ferme-de-cantraine-2/
URL:https://rdvta.hainaut-developpement.be/agenda/portes-ouvertes-a-la-ferme-de-cantraine-3/
LOCATION:Ferme de Cantraine\, rue Hector Blondiau 41\, MIGNAULT\, 7070
ATTACH;FMTTYPE=image/jpeg:https://rdvta.hainaut-developpement.be/wp-content/uploads/2025/06/Ferme-de-Cantraine-1-Moyenne.jpeg
END:VEVENT
BEGIN:VEVENT
DTSTART;VALUE=DATE:20260524
DTEND;VALUE=DATE:20260526
DTSTAMP:20260421T203803
CREATED:20260417T070221Z
LAST-MODIFIED:20260417T070221Z
UID:2521-1779580800-1779753599@rdvta.hainaut-developpement.be
SUMMARY:Portes ouvertes à la Bergerie de Léonie
DESCRIPTION:Partez à la découverte de la Bergerie de Léonie en découvrant la traite des brebis. Brunch sur réservation concocté en partenariat avec le magasin «A l’Origine». Activité yoga pour les enfants\, atelier autour de la laine pour les adultes. \nToute l’information : https://rdvta.hainaut-developpement.be/activite/portes-ouvertes-a-la-bergerie-de-leonie/
URL:https://rdvta.hainaut-developpement.be/agenda/portes-ouvertes-a-la-bergerie-de-leonie/
LOCATION:Bergerie de Léonie\, chaussée Brunehaut 28\, Honelle\, 7387
ATTACH;FMTTYPE=image/jpeg:https://rdvta.hainaut-developpement.be/wp-content/uploads/2026/04/cd4f3627-643c-4f8c-8522-010dcfde8764-Moyenne.jpeg
END:VEVENT
BEGIN:VEVENT
DTSTART;TZID=Europe/Brussels:20260524T073000
DTEND;TZID=Europe/Brussels:20260524T140000
DTSTAMP:20260421T203803
CREATED:20260413T135550Z
LAST-MODIFIED:20260413T135550Z
UID:2204-1779607800-1779631200@rdvta.hainaut-developpement.be
SUMMARY:A la découverte de la région des Collines
DESCRIPTION:Au départ de la Bergerie des Collines\, 3 balades à découvrir: 3 km\naccessibles aux poussettes\, 9 km et 15 km\, possibilité de réserver un pique-nique \n  \ntoute l’information : https://rdvta.hainaut-developpement.be/activite/a-la-decouverte-de-la-region-des-collines/
URL:https://rdvta.hainaut-developpement.be/agenda/a-la-decouverte-de-la-region-des-collines-2/
LOCATION:La Bergerie des Collines\, chaussée Brunehault 3\, Oeudeghien\, 7911\, Belgium
ATTACH;FMTTYPE=image/jpeg:https://rdvta.hainaut-developpement.be/wp-content/uploads/2026/04/bergerie-Moyenne.jpeg
END:VEVENT
BEGIN:VEVENT
DTSTART;TZID=Europe/Brussels:20260524T090000
DTEND;TZID=Europe/Brussels:20260524T220000
DTSTAMP:20260421T203803
CREATED:20260417T063831Z
LAST-MODIFIED:20260417T063934Z
UID:2510-1779613200-1779660000@rdvta.hainaut-developpement.be
SUMMARY:Fête de la Fraise
DESCRIPTION:Découverte de la culture de la fraise: visite guidée\, concours sur le thème de la fraise\, exposition d’anciens tracteurs et\, sur réservation\, repas préparé avec de la viande produite sur la ferme. \nToute l’information : https://rdvta.hainaut-developpement.be/activite/fete-de-la-fraise/
URL:https://rdvta.hainaut-developpement.be/agenda/fete-de-la-fraise/
LOCATION:Ferme Aernoudt\, chaussée de Mons 201\, THIRIMONT\, 6500\, Belgium
ATTACH;FMTTYPE=image/jpeg:https://rdvta.hainaut-developpement.be/wp-content/uploads/2026/04/1000013384-Moyenne.jpeg
END:VEVENT
BEGIN:VEVENT
DTSTART;TZID=Europe/Brussels:20260524T100000
DTEND;TZID=Europe/Brussels:20260524T180000
DTSTAMP:20260421T203803
CREATED:20260416T174908Z
LAST-MODIFIED:20260416T174908Z
UID:2498-1779616800-1779645600@rdvta.hainaut-developpement.be
SUMMARY:Portes ouvertes à la Ferme de Cavrinnes
DESCRIPTION:Visites guidées des installations et découverte de notre métier\, des animaux et de la traite robotisée\, dégustation de nos produits\, dont nos délicieuses glaces ou des petites restaurations\, différents jeux pour les enfants. \nToute l’information : https://rdvta.hainaut-developpement.be/activite/portes-ouvertes-a-la-ferme-de-cavrinnes/
URL:https://rdvta.hainaut-developpement.be/agenda/portes-ouvertes-a-la-ferme-de-cavrinnes/
ATTACH;FMTTYPE=image/jpeg:https://rdvta.hainaut-developpement.be/wp-content/uploads/2026/04/554825619_18077794997099780_3856907796601333416_n-Moyenne.jpeg
END:VEVENT
BEGIN:VEVENT
DTSTART;TZID=Europe/Brussels:20260524T100000
DTEND;TZID=Europe/Brussels:20260524T200000
DTSTAMP:20260421T203803
CREATED:20260416T173649Z
LAST-MODIFIED:20260416T173649Z
UID:2490-1779616800-1779652800@rdvta.hainaut-developpement.be
SUMMARY:Portes ouvertes à la Ferme du Clocher
DESCRIPTION:Balade gourmande en famille\, visite de l’exposition d’anciens tracteurs\, visites guidées de la ferme\, barbecue\, spectacle de rapaces\, balade en calèche\, animations pour les enfants. \nToute l’information : https://rdvta.hainaut-developpement.be/activite/portes-ouvertes-a-la-ferme-du-clocher/
URL:https://rdvta.hainaut-developpement.be/agenda/portes-ouvertes-a-la-ferme-du-clocher/
LOCATION:ferme du Clocher\, grand Rue 118\, OBIGIES\, 7743\, Belgium
ATTACH;FMTTYPE=image/jpeg:https://rdvta.hainaut-developpement.be/wp-content/uploads/2026/04/1000002051-Moyenne.jpeg
END:VEVENT
END:VCALENDAR