BEGIN:VCALENDAR
VERSION:2.0
PRODID:-//Rendez-vous en terre agricole - ECPv6.15.20//NONSGML v1.0//EN
CALSCALE:GREGORIAN
METHOD:PUBLISH
X-WR-CALNAME:Rendez-vous en terre agricole
X-ORIGINAL-URL:https://rdvta.hainaut-developpement.be
X-WR-CALDESC:Évènements pour Rendez-vous en terre agricole
REFRESH-INTERVAL;VALUE=DURATION:PT1H
X-Robots-Tag:noindex
X-PUBLISHED-TTL:PT1H
BEGIN:VTIMEZONE
TZID:Europe/Brussels
BEGIN:DAYLIGHT
TZOFFSETFROM:+0100
TZOFFSETTO:+0200
TZNAME:CEST
DTSTART:20250330T010000
END:DAYLIGHT
BEGIN:STANDARD
TZOFFSETFROM:+0200
TZOFFSETTO:+0100
TZNAME:CET
DTSTART:20251026T010000
END:STANDARD
BEGIN:DAYLIGHT
TZOFFSETFROM:+0100
TZOFFSETTO:+0200
TZNAME:CEST
DTSTART:20260329T010000
END:DAYLIGHT
BEGIN:STANDARD
TZOFFSETFROM:+0200
TZOFFSETTO:+0100
TZNAME:CET
DTSTART:20261025T010000
END:STANDARD
BEGIN:DAYLIGHT
TZOFFSETFROM:+0100
TZOFFSETTO:+0200
TZNAME:CEST
DTSTART:20270328T010000
END:DAYLIGHT
BEGIN:STANDARD
TZOFFSETFROM:+0200
TZOFFSETTO:+0100
TZNAME:CET
DTSTART:20271031T010000
END:STANDARD
END:VTIMEZONE
BEGIN:VEVENT
DTSTART;VALUE=DATE:20260501
DTEND;VALUE=DATE:20260601
DTSTAMP:20260421T203525
CREATED:20260417T120558Z
LAST-MODIFIED:20260417T120558Z
UID:2608-1777593600-1780271999@rdvta.hainaut-developpement.be
SUMMARY:Balades audioguidées pour comprendre les paysages agricoles
DESCRIPTION:Á l’aide de l’application «smart guide» téléchargeable sur votre smartphone\, partez à pied ou à vélo\, à la découverte des paysages agricoles autour de Mons\, de Petit-Roeulx-Lez-Braine\, de Soignies. \nToute l’information : https://rdvta.hainaut-developpement.be/activite/balades-audioguidees-pour-comprendre-les-paysages-agricoles-3/
URL:https://rdvta.hainaut-developpement.be/agenda/balades-audioguidees-pour-comprendre-les-paysages-agricoles/
ATTACH;FMTTYPE=image/jpeg:https://rdvta.hainaut-developpement.be/wp-content/uploads/2026/04/DSC_0947-Moyenne.jpeg
END:VEVENT
BEGIN:VEVENT
DTSTART;TZID=Europe/Brussels:20260501T090000
DTEND;TZID=Europe/Brussels:20260530T160000
DTSTAMP:20260421T203525
CREATED:20260416T171716Z
LAST-MODIFIED:20260416T172038Z
UID:2478-1777626000-1780156800@rdvta.hainaut-developpement.be
SUMMARY:Portes ouvertes à la ferme de Cantraine
DESCRIPTION:Durant tout le mois de mai\, la Ferme pédagogique de Cantraine ouvre ses portes\naux écoles\, aux institutions accompagnant des personnes en situation de handicap\, ainsi qu’aux familles. A l’occasion de la visite\, vous découvrirez les différents bâtiments de la ferme\, vous participerez au nourrissage des animaux\, vous aurez la possibilité de traire une vache en bois et de participer au concours du meilleur trayeur. Au travers de petites vidéos\, vous découvrirez différents produits fabriqués à partir du lait. Enfin\, une dégustation des produits de la ferme clôturera en beauté la visite de la ferme + visite en école. Une balade gourmande sera également proposée dans les beaux villages de la commune du Roeulx le samedi 23 mai. \nToute l’information : https://rdvta.hainaut-developpement.be/activite/portes-ouvertes-a-la-ferme-de-cantraine-2/
URL:https://rdvta.hainaut-developpement.be/agenda/portes-ouvertes-a-la-ferme-de-cantraine-3/
LOCATION:Ferme de Cantraine\, rue Hector Blondiau 41\, MIGNAULT\, 7070
ATTACH;FMTTYPE=image/jpeg:https://rdvta.hainaut-developpement.be/wp-content/uploads/2025/06/Ferme-de-Cantraine-1-Moyenne.jpeg
END:VEVENT
BEGIN:VEVENT
DTSTART;VALUE=DATE:20260530
DTEND;VALUE=DATE:20260531
DTSTAMP:20260421T203525
CREATED:20260417T101611Z
LAST-MODIFIED:20260417T101611Z
UID:2592-1780099200-1780185599@rdvta.hainaut-developpement.be
SUMMARY:Circuits vélos & Saveurs locales
DESCRIPTION:Chaque samedi\, des producteurs ouvrent leurs portes et partagent leur passion\, leurs produits et leur quotidien. Des itinéraires à vélo relient les exploitations participantes\, invitant à une découverte douce du territoire\, au rythme des chemins de campagne. \nToute l’information : https://rdvta.hainaut-developpement.be/activite/circuits-velos-saveurs-locales/
URL:https://rdvta.hainaut-developpement.be/agenda/circuits-velos-saveurs-locales-5/
ATTACH;FMTTYPE=image/jpeg:https://rdvta.hainaut-developpement.be/wp-content/uploads/2026/04/istockphoto-691384010-612x612-1.jpg
END:VEVENT
BEGIN:VEVENT
DTSTART;TZID=Europe/Brussels:20260530T090000
DTEND;TZID=Europe/Brussels:20260530T140000
DTSTAMP:20260421T203525
CREATED:20260417T075414Z
LAST-MODIFIED:20260417T075414Z
UID:2542-1780131600-1780149600@rdvta.hainaut-developpement.be
SUMMARY:Marché du terroir
DESCRIPTION:Á l’occasion du 8e anniversaire du Hall du Terroir\, marché du terroir à Mouscron avec une vingtaine de producteurs qui vous fixent rendez-vous pour faire des achats de produits locaux et de saison. \nToute l’information : https://rdvta.hainaut-developpement.be/activite/marche-du-terroir/
URL:https://rdvta.hainaut-developpement.be/agenda/marche-du-terroir/
LOCATION:Hall du Terroir\, rue de la Vellerie 133\, Mouscron\, 7700\, Belgium
ATTACH;FMTTYPE=image/jpeg:https://rdvta.hainaut-developpement.be/wp-content/uploads/2026/04/JPO-bani-hall-terroir-mouscron-2024-Moyenne.jpeg
END:VEVENT
BEGIN:VEVENT
DTSTART;TZID=Europe/Brussels:20260530T100000
DTEND;TZID=Europe/Brussels:20260530T170000
DTSTAMP:20260421T203525
CREATED:20260414T081145Z
LAST-MODIFIED:20260414T081145Z
UID:2227-1780135200-1780160400@rdvta.hainaut-developpement.be
SUMMARY:A la découverte de la ferme du CREPA - CARAH
DESCRIPTION:Visite libre ou guidée de la ferme\, animations pour enfants\, visites du vignoble expérimental\, de la fromagerie\, balade à la découverte des paysages agricoles\, ciné-débat: «Notre (sur)vie en terre agricole» et «Au-delà des clôtures»\, bar et petite restauration \nToute l’information : https://rdvta.hainaut-developpement.be/activite/a-la-decouverte-de-la-ferme-du-crepa-carah/
URL:https://rdvta.hainaut-developpement.be/agenda/a-la-decouverte-de-la-ferme-du-crepa-carah/
LOCATION:Ferme expérimentale et pédagogique du CREPA – CARAH\, rue de l'Agriculture 301\, ATH\, 7800
ATTACH;FMTTYPE=image/jpeg:https://rdvta.hainaut-developpement.be/wp-content/uploads/2026/04/2023-0430_084702-Moyenne.jpeg
END:VEVENT
BEGIN:VEVENT
DTSTART;TZID=Europe/Brussels:20260530T100000
DTEND;TZID=Europe/Brussels:20260530T180000
DTSTAMP:20260421T203525
CREATED:20260414T132420Z
LAST-MODIFIED:20260414T132420Z
UID:2306-1780135200-1780164000@rdvta.hainaut-developpement.be
SUMMARY:Rendez-vous des saveurs locales
DESCRIPTION:Chaque samedi du mois de mai\, rdv à la Blanche Ferme. Programme particulier le 9 mai: à 8h30\, promenade de 4 km à la découverte des oiseaux et des champs\, animée par «Action Nature». \nÁ 14h\, balade guidée de 8 km à vélo à la découverte des paysages agricoles de Bois-de-Lessines. \nÁ 19h\, projection de la captation de la pièce de théâtre «Notre (sur)vie en terre agricole». www.lablancheferme.be  \nToute l’information : https://rdvta.hainaut-developpement.be/activite/rendez-vous-des-saveurs-locales-2/
URL:https://rdvta.hainaut-developpement.be/agenda/rendez-vous-des-saveurs-locales-6/
LOCATION:La Blanche Ferme\, rue de la Loge 26\, BOIS DE LESSINES\, 7866
ATTACH;FMTTYPE=image/jpeg:https://rdvta.hainaut-developpement.be/wp-content/uploads/2026/04/IMG_3024-Moyenne.jpeg
END:VEVENT
BEGIN:VEVENT
DTSTART;TZID=Europe/Brussels:20260530T150000
DTEND;TZID=Europe/Brussels:20260530T190000
DTSTAMP:20260421T203525
CREATED:20260413T101132Z
LAST-MODIFIED:20260413T101132Z
UID:2171-1780153200-1780167600@rdvta.hainaut-developpement.be
SUMMARY:Marché des producteurs locaux
DESCRIPTION:Chaque samedi\, une quinzaine de producteurs et agriculteurs locaux\, un food truck et une micro-brasserie vous donnent rdv à Henripont (Braine-le-Comte) et en délocalisation à Écaussinnes ou encore\, dans les fermes. \nToute l’information ici : https://rdvta.hainaut-developpement.be/activite/marche-des-producteurs-locaux-2026/
URL:https://rdvta.hainaut-developpement.be/agenda/marche-des-producteurs-locaux-14/
LOCATION:Ferme des fraises de Coraimont\, avenue du Marouset 85\, BRAINE-LE-COMTE\, 7090
ATTACH;FMTTYPE=image/jpeg:https://rdvta.hainaut-developpement.be/wp-content/uploads/2026/04/561344868_798561619584397_7915962672179822707_n-Moyenne.jpeg
END:VEVENT
END:VCALENDAR