BEGIN:VCALENDAR
VERSION:2.0
PRODID:-//Rendez-vous en terre agricole - ECPv6.15.20//NONSGML v1.0//EN
CALSCALE:GREGORIAN
METHOD:PUBLISH
X-ORIGINAL-URL:https://rdvta.hainaut-developpement.be
X-WR-CALDESC:Évènements pour Rendez-vous en terre agricole
REFRESH-INTERVAL;VALUE=DURATION:PT1H
X-Robots-Tag:noindex
X-PUBLISHED-TTL:PT1H
BEGIN:VTIMEZONE
TZID:Europe/Brussels
BEGIN:DAYLIGHT
TZOFFSETFROM:+0100
TZOFFSETTO:+0200
TZNAME:CEST
DTSTART:20250330T010000
END:DAYLIGHT
BEGIN:STANDARD
TZOFFSETFROM:+0200
TZOFFSETTO:+0100
TZNAME:CET
DTSTART:20251026T010000
END:STANDARD
BEGIN:DAYLIGHT
TZOFFSETFROM:+0100
TZOFFSETTO:+0200
TZNAME:CEST
DTSTART:20260329T010000
END:DAYLIGHT
BEGIN:STANDARD
TZOFFSETFROM:+0200
TZOFFSETTO:+0100
TZNAME:CET
DTSTART:20261025T010000
END:STANDARD
BEGIN:DAYLIGHT
TZOFFSETFROM:+0100
TZOFFSETTO:+0200
TZNAME:CEST
DTSTART:20270328T010000
END:DAYLIGHT
BEGIN:STANDARD
TZOFFSETFROM:+0200
TZOFFSETTO:+0100
TZNAME:CET
DTSTART:20271031T010000
END:STANDARD
END:VTIMEZONE
BEGIN:VEVENT
DTSTART;VALUE=DATE:20260601
DTEND;VALUE=DATE:20260602
DTSTAMP:20260421T203733
CREATED:20260416T134206Z
LAST-MODIFIED:20260416T134206Z
UID:2436-1780272000-1780358399@rdvta.hainaut-developpement.be
SUMMARY:Les saveurs et savoir-faire agricoles de La Louvière
DESCRIPTION:Programme immersif durant plus de quinze jours dédiés à la découverte du monde agricole et de l’alimentation locale: visites\, rencontres et ateliers pédagogiques\, projection de la captation de la pièce de théâtre «Notre (sur)vie en terre agricole»\, escape game «Le Festin vert»\, ateliers pédagogiques et ateliers cuisine\, expo photos\, balade gourmande. \n\nActivités scolaires en journée (28 mai et 1er juin)\nProjection tout public du film en soirée (1er juin)\nBalade gourmande à vélo matin et après-midi (7 juin)\nExposition accessible aux heures d’ouverture du Lovaria (du 21 mai au 7 juin)\n\n  \nToute l’information : https://rdvta.hainaut-developpement.be/activite/les-saveurs-et-savoir-faire-agricoles-de-la-louviere/
URL:https://rdvta.hainaut-developpement.be/agenda/les-saveurs-et-savoir-faire-agricoles-de-la-louviere/
LOCATION:Ferme Delsamme\, place de Strépy 2\, LA LOUVIERE\, 7100\, Belgium
ATTACH;FMTTYPE=image/jpeg:https://rdvta.hainaut-developpement.be/wp-content/uploads/2026/04/Ascenseur_funiculaire_de_Strépy_Thieu_004-Moyenne.jpeg
END:VEVENT
BEGIN:VEVENT
DTSTART;VALUE=DATE:20260605
DTEND;VALUE=DATE:20260608
DTSTAMP:20260421T203733
CREATED:20260417T091848Z
LAST-MODIFIED:20260417T091848Z
UID:2575-1780617600-1780876799@rdvta.hainaut-developpement.be
SUMMARY:Regards artistiques   sur le métier d’Agriculteur
DESCRIPTION:Inauguration de l’exposition des étudiants de la section «Photographie» de l’Institut provincial des Métiers d’Art de Mons\, fruit de leur travail au contact des agriculteurs\, exposition accessible tout le week-end. \nToute l’information : https://rdvta.hainaut-developpement.be/activite/regards-artistiques-sur-le-metier-dagriculteur/
URL:https://rdvta.hainaut-developpement.be/agenda/regards-artistiques-sur-le-metier-dagriculteur/
LOCATION:Ferme du Parc\, rue La Roche 13\, MONTIGNIES-LEZ-LENS\, 7870
ATTACH;FMTTYPE=image/jpeg:https://rdvta.hainaut-developpement.be/wp-content/uploads/2026/04/Miguel-Najera-5-scaled.jpeg
END:VEVENT
BEGIN:VEVENT
DTSTART;VALUE=DATE:20260607
DTEND;VALUE=DATE:20260608
DTSTAMP:20260421T203733
CREATED:20260416T134258Z
LAST-MODIFIED:20260416T134423Z
UID:2438-1780790400-1780876799@rdvta.hainaut-developpement.be
SUMMARY:Les saveurs et savoir-faire agricoles de La Louvière
DESCRIPTION:Programme immersif durant plus de quinze jours dédiés à la découverte du monde agricole et de l’alimentation locale: visites\, rencontres et ateliers pédagogiques\, projection de la captation de la pièce de théâtre «Notre (sur)vie en terre agricole»\, escape game «Le Festin vert»\, ateliers pédagogiques et ateliers cuisine\, expo photos\, balade gourmande. \n\nActivités scolaires en journée (28 mai et 1er juin)\nProjection tout public du film en soirée (1er juin)\nBalade gourmande à vélo matin et après-midi (7 juin)\nExposition accessible aux heures d’ouverture du Lovaria (du 21 mai au 7 juin)\n\n  \nToute l’information : https://rdvta.hainaut-developpement.be/activite/les-saveurs-et-savoir-faire-agricoles-de-la-louviere/
URL:https://rdvta.hainaut-developpement.be/agenda/les-saveurs-et-savoir-faire-agricoles-de-la-louviere-2/
LOCATION:Ferme Delsamme\, place de Strépy 2\, LA LOUVIERE\, 7100\, Belgium
ATTACH;FMTTYPE=image/jpeg:https://rdvta.hainaut-developpement.be/wp-content/uploads/2026/04/Ascenseur_funiculaire_de_Strépy_Thieu_004-Moyenne.jpeg
END:VEVENT
BEGIN:VEVENT
DTSTART;TZID=Europe/Brussels:20260607T080000
DTEND;TZID=Europe/Brussels:20260607T130000
DTSTAMP:20260421T203733
CREATED:20260417T095719Z
LAST-MODIFIED:20260417T095719Z
UID:2578-1780819200-1780837200@rdvta.hainaut-developpement.be
SUMMARY:Une matinée sur le thème du lait
DESCRIPTION:Découverte du lait: démonstration de traite\, petit-déjeuner local\, contes pour enfants et projection du documentaire «Trainée de poudre» en présence du réalisateur et des éleveurs\, apéro local en clôture. \n  \nToute l’information : https://rdvta.hainaut-developpement.be/activite/une-matinee-sur-le-theme-du-lait/
URL:https://rdvta.hainaut-developpement.be/agenda/une-matinee-sur-le-theme-du-lait/
LOCATION:Ferme de warde\, Warde 26\, THIEULAIN\, 7901\, Belgium
ATTACH;FMTTYPE=image/jpeg:https://rdvta.hainaut-developpement.be/wp-content/uploads/2026/04/fresh-milk-mug-jug-wooden-table-Moyenne.jpeg
END:VEVENT
BEGIN:VEVENT
DTSTART;VALUE=DATE:20260621
DTEND;VALUE=DATE:20260708
DTSTAMP:20260421T203733
CREATED:20260416T134624Z
LAST-MODIFIED:20260416T134624Z
UID:2440-1782000000-1783468799@rdvta.hainaut-developpement.be
SUMMARY:Les saveurs et savoir-faire agricoles de La Louvière
DESCRIPTION:Programme immersif durant plus de quinze jours dédiés à la découverte du monde agricole et de l’alimentation locale: visites\, rencontres et ateliers pédagogiques\, projection de la captation de la pièce de théâtre «Notre (sur)vie en terre agricole»\, escape game «Le Festin vert»\, ateliers pédagogiques et ateliers cuisine\, expo photos\, balade gourmande. \n\nActivités scolaires en journée (28 mai et 1er juin)\nProjection tout public du film en soirée (1er juin)\nBalade gourmande à vélo matin et après-midi (7 juin)\nExposition accessible aux heures d’ouverture du Lovaria (du 21 mai au 7 juin)\n\n  \nToute l’information : https://rdvta.hainaut-developpement.be/activite/les-saveurs-et-savoir-faire-agricoles-de-la-louviere/
URL:https://rdvta.hainaut-developpement.be/agenda/les-saveurs-et-savoir-faire-agricoles-de-la-louviere-3/
LOCATION:Lovaria\, Rue Albert 1 19\, La Louvière\, 7100\, Belgium
ATTACH;FMTTYPE=image/jpeg:https://rdvta.hainaut-developpement.be/wp-content/uploads/2026/04/Ascenseur_funiculaire_de_Strépy_Thieu_004-Moyenne.jpeg
END:VEVENT
END:VCALENDAR