BEGIN:VCALENDAR
VERSION:2.0
PRODID:-//Rendez-vous en terre agricole - ECPv6.15.18//NONSGML v1.0//EN
CALSCALE:GREGORIAN
METHOD:PUBLISH
X-ORIGINAL-URL:https://rdvta.hainaut-developpement.be
X-WR-CALDESC:Évènements pour Rendez-vous en terre agricole
REFRESH-INTERVAL;VALUE=DURATION:PT1H
X-Robots-Tag:noindex
X-PUBLISHED-TTL:PT1H
BEGIN:VTIMEZONE
TZID:Europe/Brussels
BEGIN:DAYLIGHT
TZOFFSETFROM:+0100
TZOFFSETTO:+0200
TZNAME:CEST
DTSTART:20250330T010000
END:DAYLIGHT
BEGIN:STANDARD
TZOFFSETFROM:+0200
TZOFFSETTO:+0100
TZNAME:CET
DTSTART:20251026T010000
END:STANDARD
BEGIN:DAYLIGHT
TZOFFSETFROM:+0100
TZOFFSETTO:+0200
TZNAME:CEST
DTSTART:20260329T010000
END:DAYLIGHT
BEGIN:STANDARD
TZOFFSETFROM:+0200
TZOFFSETTO:+0100
TZNAME:CET
DTSTART:20261025T010000
END:STANDARD
BEGIN:DAYLIGHT
TZOFFSETFROM:+0100
TZOFFSETTO:+0200
TZNAME:CEST
DTSTART:20270328T010000
END:DAYLIGHT
BEGIN:STANDARD
TZOFFSETFROM:+0200
TZOFFSETTO:+0100
TZNAME:CET
DTSTART:20271031T010000
END:STANDARD
END:VTIMEZONE
BEGIN:VEVENT
DTSTART;VALUE=DATE:20260509
DTEND;VALUE=DATE:20260510
DTSTAMP:20260420T033112
CREATED:20260417T101428Z
LAST-MODIFIED:20260417T101428Z
UID:2586-1778284800-1778371199@rdvta.hainaut-developpement.be
SUMMARY:Circuits vélos & Saveurs locales
DESCRIPTION:Chaque samedi\, des producteurs ouvrent leurs portes et partagent leur passion\, leurs produits et leur quotidien. Des itinéraires à vélo relient les exploitations participantes\, invitant à une découverte douce du territoire\, au rythme des chemins de campagne. \nToute l’information : https://rdvta.hainaut-developpement.be/activite/circuits-velos-saveurs-locales/
URL:https://rdvta.hainaut-developpement.be/event/circuits-velos-saveurs-locales-2/
ATTACH;FMTTYPE=image/jpeg:https://rdvta.hainaut-developpement.be/wp-content/uploads/2026/04/istockphoto-691384010-612x612-1.jpg
END:VEVENT
BEGIN:VEVENT
DTSTART;TZID=Europe/Brussels:20260509T090000
DTEND;TZID=Europe/Brussels:20260509T130000
DTSTAMP:20260420T033112
CREATED:20260414T090649Z
LAST-MODIFIED:20260414T090649Z
UID:2254-1778317200-1778331600@rdvta.hainaut-developpement.be
SUMMARY:Le commerce équitable s’invite en ville
DESCRIPTION:Matinée conviviale et engagée dans le cadre d’un véritable village du commerce équitable. Au programme: dégustations de produits équitables et locaux\, animations ludiques pour petits et grands\, moments d’échanges et ambiance festive. \nToute l’information : https://rdvta.hainaut-developpement.be/activite/le-commerce-equitable-sinvite-en-ville/
URL:https://rdvta.hainaut-developpement.be/event/le-commerce-equitable-sinvite-en-ville/
ATTACH;FMTTYPE=image/jpeg:https://rdvta.hainaut-developpement.be/wp-content/uploads/2026/04/commune-du-commerce-equitable-Moyenne.jpeg
END:VEVENT
BEGIN:VEVENT
DTSTART;TZID=Europe/Brussels:20260509T093000
DTEND;TZID=Europe/Brussels:20260509T150000
DTSTAMP:20260420T033112
CREATED:20260414T135047Z
LAST-MODIFIED:20260414T135047Z
UID:2316-1778319000-1778338800@rdvta.hainaut-developpement.be
SUMMARY:Les MINIS à la ferme
DESCRIPTION:La Ferme du Parc ouvre ses portes aux tout-petits accompagnés d’un adulte pour une première rencontre avec les animaux. Pour les enfants de 1 à 4 ans\, cette activité dure une heure\, pour des petits groupes. \n  \nToute l’information : https://rdvta.hainaut-developpement.be/activite/les-minis-a-la-ferme/
URL:https://rdvta.hainaut-developpement.be/event/les-minis-a-la-ferme/
LOCATION:Ferme du Parc\, rue La Roche 13\, MONTIGNIES-LEZ-LENS\, 7870
ATTACH;FMTTYPE=image/jpeg:https://rdvta.hainaut-developpement.be/wp-content/uploads/2026/04/536277737_794422959850355_4349353895134182884_n-Moyenne.jpeg
END:VEVENT
BEGIN:VEVENT
DTSTART;TZID=Europe/Brussels:20260509T093000
DTEND;TZID=Europe/Brussels:20260509T160000
DTSTAMP:20260420T033112
CREATED:20260414T125917Z
LAST-MODIFIED:20260414T125917Z
UID:2284-1778319000-1778342400@rdvta.hainaut-developpement.be
SUMMARY:Rencontre des producteurs de la Botte paysanne
DESCRIPTION:La Coopérative La Botte paysanne vous donne rendez-vous pour vous faire découvrir des maraîchers dans le cadre d’un marché de plants de légumes et d’herbes aromatiques. Ils vous prodigueront tous les conseils pour les faire grandir jusqu’à votre assiette! \n  \nToute l’information : https://rdvta.hainaut-developpement.be/activite/rencontre-des-producteurs-de-la-botte-paysanne/
URL:https://rdvta.hainaut-developpement.be/event/rencontre-des-producteurs-de-la-botte-paysanne/
LOCATION:Coopérative la Botte paysanne\, grand Thumas 1\, Sivry\, 6470\, Belgium
ATTACH;FMTTYPE=image/jpeg:https://rdvta.hainaut-developpement.be/wp-content/uploads/2026/04/botte-Moyenne.jpeg
END:VEVENT
BEGIN:VEVENT
DTSTART;TZID=Europe/Brussels:20260509T100000
DTEND;TZID=Europe/Brussels:20260509T150000
DTSTAMP:20260420T033112
CREATED:20260414T122707Z
LAST-MODIFIED:20260414T122707Z
UID:2279-1778320800-1778338800@rdvta.hainaut-developpement.be
SUMMARY:Les 5 ans de notre épicerie "A l’Origine DOUR"
DESCRIPTION:A l’occasion des cinq années d’ouverture de notre épicerie\, nous vous invitons à venir nous rencontrer et savourer quelques dégustations de bons produits de notre région\, en présence de certains producteurs. \n  \nToute l’information ici : https://rdvta.hainaut-developpement.be/activite/les-5-ans-de-notre-epicerie-a-lorigine-dour/
URL:https://rdvta.hainaut-developpement.be/event/les-5-ans-de-notre-epicerie-a-lorigine-dour-2/
ATTACH;FMTTYPE=image/jpeg:https://rdvta.hainaut-developpement.be/wp-content/uploads/2026/04/642827353_1250147613877059_1882317485731376755_n-Moyenne.jpeg
END:VEVENT
BEGIN:VEVENT
DTSTART;TZID=Europe/Brussels:20260509T100000
DTEND;TZID=Europe/Brussels:20260509T170000
DTSTAMP:20260420T033112
CREATED:20260414T084514Z
LAST-MODIFIED:20260414T084514Z
UID:2247-1778320800-1778346000@rdvta.hainaut-developpement.be
SUMMARY:Découverte du monde de la chèvre
DESCRIPTION:La Chèvrerie de Luna vous invite à venir à la rencontre des chèvres\, des chevreaux et des autres animaux de la ferme: visite de la chèvrerie\, dégustation des fromages\, démonstration de la traite\, petit tour sur le dos d’un poney ou en calèche tirée par un tracteur. \nToute l’information : https://rdvta.hainaut-developpement.be/activite/decouverte-du-monde-de-la-chevre-3/ \n 
URL:https://rdvta.hainaut-developpement.be/event/decouverte-du-monde-de-la-chevre-4/
LOCATION:Chèvrerie de Luna\, rue de Luna 19\, ESTAIMBOURG\, 7730
ATTACH;FMTTYPE=image/jpeg:https://rdvta.hainaut-developpement.be/wp-content/uploads/2026/04/image_2-Moyenne.jpeg
END:VEVENT
BEGIN:VEVENT
DTSTART;TZID=Europe/Brussels:20260509T100000
DTEND;TZID=Europe/Brussels:20260509T180000
DTSTAMP:20260420T033112
CREATED:20260414T132307Z
LAST-MODIFIED:20260414T132307Z
UID:2299-1778320800-1778349600@rdvta.hainaut-developpement.be
SUMMARY:Rendez-vous des saveurs locales
DESCRIPTION:Chaque samedi du mois de mai\, rdv à la Blanche Ferme. Programme particulier le 9 mai: à 8h30\, promenade de 4 km à la découverte des oiseaux et des champs\, animée par «Action Nature». \nÁ 14h\, balade guidée de 8 km à vélo à la découverte des paysages agricoles de Bois-de-Lessines. \nÁ 19h\, projection de la captation de la pièce de théâtre «Notre (sur)vie en terre agricole». www.lablancheferme.be  \nToute l’information : https://rdvta.hainaut-developpement.be/activite/rendez-vous-des-saveurs-locales-2/
URL:https://rdvta.hainaut-developpement.be/event/rendez-vous-des-saveurs-locales-3/
LOCATION:La Blanche Ferme\, rue de la Loge 26\, BOIS DE LESSINES\, 7866
ATTACH;FMTTYPE=image/jpeg:https://rdvta.hainaut-developpement.be/wp-content/uploads/2026/04/IMG_3024-Moyenne.jpeg
END:VEVENT
BEGIN:VEVENT
DTSTART;TZID=Europe/Brussels:20260509T150000
DTEND;TZID=Europe/Brussels:20260509T190000
DTSTAMP:20260420T033112
CREATED:20260413T100608Z
LAST-MODIFIED:20260413T100608Z
UID:2167-1778338800-1778353200@rdvta.hainaut-developpement.be
SUMMARY:Marché des producteurs locaux
DESCRIPTION:Chaque samedi\, une quinzaine de producteurs et agriculteurs locaux\, un food truck et une micro-brasserie vous donnent rdv à Henripont (Braine-le-Comte) et en délocalisation à Écaussinnes ou encore\, dans les fermes. \nToute l’information ici : https://rdvta.hainaut-developpement.be/activite/marche-des-producteurs-locaux-2026/
URL:https://rdvta.hainaut-developpement.be/event/marche-des-producteurs-locaux-11/
LOCATION:place des Comtes\, place des Comtes\, Ecaussines\, 7190\, Belgium
ATTACH;FMTTYPE=image/jpeg:https://rdvta.hainaut-developpement.be/wp-content/uploads/2026/04/561344868_798561619584397_7915962672179822707_n-Moyenne.jpeg
END:VEVENT
BEGIN:VEVENT
DTSTART;TZID=Europe/Brussels:20260510T080000
DTEND;TZID=Europe/Brussels:20260510T140000
DTSTAMP:20260420T033112
CREATED:20260415T080312Z
LAST-MODIFIED:20260415T080356Z
UID:2331-1778400000-1778421600@rdvta.hainaut-developpement.be
SUMMARY:Emmenez avec vous un petit bout de Spamboux
DESCRIPTION:Réservez un petit-déjeuner à emporter. Si le cœur vous en dit\, vous pourrez l’emporter jusqu’à la ferme de Merboëlle (à pied\, à vélo ou en voiture) où des tables seront prévues pour vous accueillir au milieu de l’étable. \nToute l’information : https://rdvta.hainaut-developpement.be/activite/emmenez-avec-vous-un-petit-bout-de-spamboux/
URL:https://rdvta.hainaut-developpement.be/event/2331/
LOCATION:Le Spamboux\, rue du Spamboux 2\, MONT-SAINT-GENEVIEVE\, 6540\, Belgium
ATTACH;FMTTYPE=image/jpeg:https://rdvta.hainaut-developpement.be/wp-content/uploads/2026/04/autocueillette2-Moyenne.jpeg
END:VEVENT
BEGIN:VEVENT
DTSTART;TZID=Europe/Brussels:20260510T090000
DTEND;TZID=Europe/Brussels:20260510T200000
DTSTAMP:20260420T033112
CREATED:20260415T084826Z
LAST-MODIFIED:20260415T084826Z
UID:2344-1778403600-1778443200@rdvta.hainaut-developpement.be
SUMMARY:Portes ouvertes au Jardin des Abeilles
DESCRIPTION:Venez découvrir le Jardin des Abeilles de manière didactique et ludique. Au programme: visites guidées de nos cultures\, découverte des ruches et échanges avec nos apiculteurs\, rencontre des producteurs locaux\, tournoi de Molky\, guinguette. \nToute l’information : https://rdvta.hainaut-developpement.be/activite/portes-ouvertes-au-jardin-des-abeilles-2/
URL:https://rdvta.hainaut-developpement.be/event/portes-ouvertes-au-jardin-des-abeilles-2/
LOCATION:Le Jardin des Abeilles\, rue du Fresnoy 43\, NECHIN\, 7730
ATTACH;FMTTYPE=image/jpeg:https://rdvta.hainaut-developpement.be/wp-content/uploads/2026/04/IMG_6226-Moyenne.jpeg
END:VEVENT
BEGIN:VEVENT
DTSTART;TZID=Europe/Brussels:20260510T100000
DTEND;TZID=Europe/Brussels:20260510T120000
DTSTAMP:20260420T033112
CREATED:20260414T122624Z
LAST-MODIFIED:20260414T122741Z
UID:2277-1778407200-1778414400@rdvta.hainaut-developpement.be
SUMMARY:Les 5 ans de notre épicerie "A l’Origine DOUR"
DESCRIPTION:A l’occasion des cinq années d’ouverture de notre épicerie\, nous vous invitons à venir nous rencontrer et savourer quelques dégustations de bons produits de notre région\, en présence de certains producteurs. \n  \nToute l’information ici : https://rdvta.hainaut-developpement.be/activite/les-5-ans-de-notre-epicerie-a-lorigine-dour/
URL:https://rdvta.hainaut-developpement.be/event/les-5-ans-de-notre-epicerie-a-lorigine-dour/
ATTACH;FMTTYPE=image/jpeg:https://rdvta.hainaut-developpement.be/wp-content/uploads/2026/04/642827353_1250147613877059_1882317485731376755_n-Moyenne.jpeg
END:VEVENT
BEGIN:VEVENT
DTSTART;TZID=Europe/Brussels:20260510T100000
DTEND;TZID=Europe/Brussels:20260510T180000
DTSTAMP:20260420T033112
CREATED:20260415T081844Z
LAST-MODIFIED:20260415T081844Z
UID:2341-1778407200-1778436000@rdvta.hainaut-developpement.be
SUMMARY:Salon Saveurs et Nature
DESCRIPTION:Le salon «Saveurs et Nature» vous ouvrira ses portes sur la place des Templiers à Saint-Léger\, pour y rencontrer plus d’une trentaine de producteurs locaux\, artisans et associations. \nToute l’information : https://rdvta.hainaut-developpement.be/activite/salon-saveurs-et-nature-3/
URL:https://rdvta.hainaut-developpement.be/event/salon-saveurs-et-nature-3/
LOCATION:Place des Templiers\, place des Templiers\, Saint-Léger\, 7730
ATTACH;FMTTYPE=image/jpeg:https://rdvta.hainaut-developpement.be/wp-content/uploads/2026/04/IMG_3287-Moyenne.jpeg
END:VEVENT
BEGIN:VEVENT
DTSTART;TZID=Europe/Brussels:20260513T143000
DTEND;TZID=Europe/Brussels:20260513T170000
DTSTAMP:20260420T033112
CREATED:20260414T135258Z
LAST-MODIFIED:20260414T135258Z
UID:2320-1778682600-1778691600@rdvta.hainaut-developpement.be
SUMMARY:Les MINIS à la ferme
DESCRIPTION:La Ferme du Parc ouvre ses portes aux tout-petits accompagnés d’un adulte pour une première rencontre avec les animaux. Pour les enfants de 1 à 4 ans\, cette activité dure une heure\, pour des petits groupes. \n  \nToute l’information : https://rdvta.hainaut-developpement.be/activite/les-minis-a-la-ferme/
URL:https://rdvta.hainaut-developpement.be/event/les-minis-a-la-ferme-3/
LOCATION:Ferme du Parc\, rue La Roche 13\, MONTIGNIES-LEZ-LENS\, 7870
ATTACH;FMTTYPE=image/jpeg:https://rdvta.hainaut-developpement.be/wp-content/uploads/2026/04/536277737_794422959850355_4349353895134182884_n-Moyenne.jpeg
END:VEVENT
BEGIN:VEVENT
DTSTART;VALUE=DATE:20260516
DTEND;VALUE=DATE:20260517
DTSTAMP:20260420T033112
CREATED:20260416T165115Z
LAST-MODIFIED:20260416T165115Z
UID:2467-1778889600-1778975999@rdvta.hainaut-developpement.be
SUMMARY:Promotion du Cheval de trait belge
DESCRIPTION:Les Écuries du Hainaut vous proposent\, durant tout le mois de mai\, différentes activités\, en partenariat avec plusieurs fermes ou un vignoble: concours de chevaux\, balades en attelages\, démonstrations de maniabilité\, de travail du sol\, de maréchalerie. \nToute l’information : https://rdvta.hainaut-developpement.be/activite/promotion-du-cheval-de-trait-belge-3/
URL:https://rdvta.hainaut-developpement.be/event/promotion-du-cheval-de-trait-belge-7/
LOCATION:Crocodile Rouge\, rue de la Plate Taille 99\, FROIDCHAPELLE\, 6440\, Belgium
ATTACH;FMTTYPE=image/jpeg:https://rdvta.hainaut-developpement.be/wp-content/uploads/2026/04/438119811_918068350298861_1077673703189790209_n-Moyenne.jpeg
END:VEVENT
BEGIN:VEVENT
DTSTART;VALUE=DATE:20260516
DTEND;VALUE=DATE:20260517
DTSTAMP:20260420T033112
CREATED:20260417T101457Z
LAST-MODIFIED:20260417T101457Z
UID:2587-1778889600-1778975999@rdvta.hainaut-developpement.be
SUMMARY:Circuits vélos & Saveurs locales
DESCRIPTION:Chaque samedi\, des producteurs ouvrent leurs portes et partagent leur passion\, leurs produits et leur quotidien. Des itinéraires à vélo relient les exploitations participantes\, invitant à une découverte douce du territoire\, au rythme des chemins de campagne. \nToute l’information : https://rdvta.hainaut-developpement.be/activite/circuits-velos-saveurs-locales/
URL:https://rdvta.hainaut-developpement.be/event/circuits-velos-saveurs-locales-3/
ATTACH;FMTTYPE=image/jpeg:https://rdvta.hainaut-developpement.be/wp-content/uploads/2026/04/istockphoto-691384010-612x612-1.jpg
END:VEVENT
BEGIN:VEVENT
DTSTART;TZID=Europe/Brussels:20260516T093000
DTEND;TZID=Europe/Brussels:20260516T150000
DTSTAMP:20260420T033112
CREATED:20260414T135155Z
LAST-MODIFIED:20260414T135155Z
UID:2318-1778923800-1778943600@rdvta.hainaut-developpement.be
SUMMARY:Les MINIS à la ferme
DESCRIPTION:La Ferme du Parc ouvre ses portes aux tout-petits accompagnés d’un adulte pour une première rencontre avec les animaux. Pour les enfants de 1 à 4 ans\, cette activité dure une heure\, pour des petits groupes. \n  \nToute l’information : https://rdvta.hainaut-developpement.be/activite/les-minis-a-la-ferme/
URL:https://rdvta.hainaut-developpement.be/event/les-minis-a-la-ferme-2/
LOCATION:Ferme du Parc\, rue La Roche 13\, MONTIGNIES-LEZ-LENS\, 7870
ATTACH;FMTTYPE=image/jpeg:https://rdvta.hainaut-developpement.be/wp-content/uploads/2026/04/536277737_794422959850355_4349353895134182884_n-Moyenne.jpeg
END:VEVENT
BEGIN:VEVENT
DTSTART;TZID=Europe/Brussels:20260516T100000
DTEND;TZID=Europe/Brussels:20260516T160000
DTSTAMP:20260420T033112
CREATED:20260415T092814Z
LAST-MODIFIED:20260415T115931Z
UID:2350-1778925600-1778947200@rdvta.hainaut-developpement.be
SUMMARY:A la découverte de la ferme de la Coulbrie
DESCRIPTION:La Ferme de la Coulbrie vous accueille pour différentes visites guidées\nDifférentes visites guidées pour découvrir le poulailler mobile et les races bovines présentes\, à savoir les Black Angus et les Blanc Bleu Belge. Dégustation de charcuteries artisanales sans sel nitrité produites sur place. \n  \nToute l’information : https://rdvta.hainaut-developpement.be/activite/a-la-decouverte-de-la-ferme-de-la-coulbrie/
URL:https://rdvta.hainaut-developpement.be/event/a-la-decouverte-de-la-ferme-de-la-coulbrie/
LOCATION:Ferme de Coulbrie\, chemin des Théodosiens 206\, Soignies\, 7060\, Belgium
ATTACH;FMTTYPE=image/jpeg:https://rdvta.hainaut-developpement.be/wp-content/uploads/2026/04/Poulailler-Coulbrie-Moyenne.jpeg
END:VEVENT
BEGIN:VEVENT
DTSTART;TZID=Europe/Brussels:20260516T100000
DTEND;TZID=Europe/Brussels:20260516T170000
DTSTAMP:20260420T033112
CREATED:20260415T122920Z
LAST-MODIFIED:20260415T123022Z
UID:2365-1778925600-1778950800@rdvta.hainaut-developpement.be
SUMMARY:l’Élevage de la Petite Suisse
DESCRIPTION:Présentation des veaux de races différentes\, petit parcours de conduite de veau à la corde\, un tour en calèche\, en-cas du «Terroir Botte du Hainaut» à partir 10h\, plat du jour avec de la viande de l’Elevage de la Petite Suisse. \nToute l’information : https://rdvta.hainaut-developpement.be/activite/lelevage-de-la-petite-suisse/
URL:https://rdvta.hainaut-developpement.be/event/lelevage-de-la-petite-suisse/
LOCATION:Crocodile Rouge\, rue de la Plate Taille 99\, FROIDCHAPELLE\, 6440\, Belgium
ATTACH;FMTTYPE=image/jpeg:https://rdvta.hainaut-developpement.be/wp-content/uploads/2026/04/339298656_2084326431753411_7711221248926059184_n-Moyenne.jpeg
END:VEVENT
BEGIN:VEVENT
DTSTART;TZID=Europe/Brussels:20260516T100000
DTEND;TZID=Europe/Brussels:20260516T180000
DTSTAMP:20260420T033112
CREATED:20260414T132327Z
LAST-MODIFIED:20260414T132327Z
UID:2300-1778925600-1778954400@rdvta.hainaut-developpement.be
SUMMARY:Rendez-vous des saveurs locales
DESCRIPTION:Chaque samedi du mois de mai\, rdv à la Blanche Ferme. Programme particulier le 9 mai: à 8h30\, promenade de 4 km à la découverte des oiseaux et des champs\, animée par «Action Nature». \nÁ 14h\, balade guidée de 8 km à vélo à la découverte des paysages agricoles de Bois-de-Lessines. \nÁ 19h\, projection de la captation de la pièce de théâtre «Notre (sur)vie en terre agricole». www.lablancheferme.be  \nToute l’information : https://rdvta.hainaut-developpement.be/activite/rendez-vous-des-saveurs-locales-2/
URL:https://rdvta.hainaut-developpement.be/event/rendez-vous-des-saveurs-locales-4/
LOCATION:La Blanche Ferme\, rue de la Loge 26\, BOIS DE LESSINES\, 7866
ATTACH;FMTTYPE=image/jpeg:https://rdvta.hainaut-developpement.be/wp-content/uploads/2026/04/IMG_3024-Moyenne.jpeg
END:VEVENT
BEGIN:VEVENT
DTSTART;TZID=Europe/Brussels:20260516T150000
DTEND;TZID=Europe/Brussels:20260516T190000
DTSTAMP:20260420T033112
CREATED:20260413T100908Z
LAST-MODIFIED:20260413T100908Z
UID:2170-1778943600-1778958000@rdvta.hainaut-developpement.be
SUMMARY:Marché des producteurs locaux
DESCRIPTION:Chaque samedi\, une quinzaine de producteurs et agriculteurs locaux\, un food truck et une micro-brasserie vous donnent rdv à Henripont (Braine-le-Comte) et en délocalisation à Écaussinnes ou encore\, dans les fermes. \nToute l’information ici : https://rdvta.hainaut-developpement.be/activite/marche-des-producteurs-locaux-2026/
URL:https://rdvta.hainaut-developpement.be/event/marche-des-producteurs-locaux-12/
LOCATION:Ferme Dereycke\, chemin des Dix Maisons 182\, BRAINE-LE-COMTE\, 7090
ATTACH;FMTTYPE=image/jpeg:https://rdvta.hainaut-developpement.be/wp-content/uploads/2026/04/497912330_1010470931197243_5897421711546580528_n-Moyenne.jpeg
END:VEVENT
BEGIN:VEVENT
DTSTART;TZID=Europe/Brussels:20260517T093000
DTEND;TZID=Europe/Brussels:20260517T170000
DTSTAMP:20260420T033112
CREATED:20260416T075649Z
LAST-MODIFIED:20260416T075649Z
UID:2399-1779010200-1779037200@rdvta.hainaut-developpement.be
SUMMARY:Pause "Nature & Saveurs"
DESCRIPTION:Balade conviviale et gourmande en suivant différents parcours: de 4 km (accessible en poussette) à 8 km\, sur des petits sentiers et chemins de campagne. Possibilité de réserver une box apéro fermière\, à déguster sur place ou à emporter. \nToute l’information : https://rdvta.hainaut-developpement.be/activite/pause-nature-saveurs/
URL:https://rdvta.hainaut-developpement.be/event/pause-nature-saveurs/
ATTACH;FMTTYPE=image/jpeg:https://rdvta.hainaut-developpement.be/wp-content/uploads/2026/04/Ferme-du-Parc-2-Moyenne.jpeg
END:VEVENT
BEGIN:VEVENT
DTSTART;TZID=Europe/Brussels:20260517T103000
DTEND;TZID=Europe/Brussels:20260517T183000
DTSTAMP:20260420T033112
CREATED:20260415T135010Z
LAST-MODIFIED:20260415T135010Z
UID:2386-1779013800-1779042600@rdvta.hainaut-developpement.be
SUMMARY:A la découverte de l’Agriculture sociale
DESCRIPTION:Découverte de l’agriculture sociale avec 2 spectacles et bords de scène: à 11h\, «Théâtre de Bottes»\, à 14h et à 16h\, «Viens\, on se tire!». Diverses activités pour les plus jeunes. Bar sans alcool et petite restauration le midi. \nToutes l’information : https://rdvta.hainaut-developpement.be/activite/a-la-decouverte-de-lagriculture-sociale/
URL:https://rdvta.hainaut-developpement.be/event/a-la-decouverte-de-lagriculture-sociale/
LOCATION:Chemin aux loups\, chemin aux Loups\, 7\, ECAUSSINNES-D’ENGHIEN\, 7190\, Belgium
ATTACH;FMTTYPE=image/jpeg:https://rdvta.hainaut-developpement.be/wp-content/uploads/2026/04/A-l-Oree-du-Bois-cochons-mangas-auge-Moyenne.jpeg
END:VEVENT
BEGIN:VEVENT
DTSTART;TZID=Europe/Brussels:20260517T103000
DTEND;TZID=Europe/Brussels:20260517T220000
DTSTAMP:20260420T033112
CREATED:20260416T073844Z
LAST-MODIFIED:20260416T074132Z
UID:2390-1779013800-1779055200@rdvta.hainaut-developpement.be
SUMMARY:Balade tracto-gourmande
DESCRIPTION:Promenade bucolique dans les campagnes des Bons Villers en tracteur ou en char\, en famille ou entre amis\, dans les fermes\, pour y déguster un repas 100 % local et de saison: apéro\, soupe\, plat\, fromage et dessert. \nToute l’information : https://rdvta.hainaut-developpement.be/activite/balade-tracto-gourmande/ \n 
URL:https://rdvta.hainaut-developpement.be/event/balade-tracto-gourmande/
LOCATION:rue Fromiée 3 – 6230 BUZET\, rue Fromiée 3\, Buzet\, 6230\, Belgium
ATTACH;FMTTYPE=image/jpeg:https://rdvta.hainaut-developpement.be/wp-content/uploads/2026/04/492334821_122164820768350437_1515004339725942680_n-Moyenne.jpeg
END:VEVENT
BEGIN:VEVENT
DTSTART;TZID=Europe/Brussels:20260517T150000
DTEND;TZID=Europe/Brussels:20260517T163000
DTSTAMP:20260420T033112
CREATED:20260415T125623Z
LAST-MODIFIED:20260415T125623Z
UID:2371-1779030000-1779035400@rdvta.hainaut-developpement.be
SUMMARY:Conférence gesticulée "Quand on sème\, c’est pour la vie"
DESCRIPTION:Conférence gesticulée animée par Corentin HECQUET\, sur l’enjeu crucial de l’appropriation des semences et ses conséquences dramatiques sur le vivant. Bar dès 14h. Nombre de places limité. \n  \nToute l’information : https://rdvta.hainaut-developpement.be/activite/conference-gesticulee-quand-on-seme-cest-pour-la-vie/
URL:https://rdvta.hainaut-developpement.be/event/conference-gesticulee-quand-on-seme-cest-pour-la-vie/
LOCATION:rue de la Bergerie\, rue de la Bergerie 7\, HENRIPONT\, 7090\, Belgium
ATTACH;FMTTYPE=image/jpeg:https://rdvta.hainaut-developpement.be/wp-content/uploads/2026/04/Conf-gesticulee-Quand-on-seme-Moyenne.jpeg
END:VEVENT
BEGIN:VEVENT
DTSTART;TZID=Europe/Brussels:20260518T090000
DTEND;TZID=Europe/Brussels:20260518T120000
DTSTAMP:20260420T033112
CREATED:20260416T094337Z
LAST-MODIFIED:20260416T094337Z
UID:2402-1779094800-1779105600@rdvta.hainaut-developpement.be
SUMMARY:En route pour le tour des fermes d’Aiseau-Presles
DESCRIPTION:Partez à la découverte de la Ferme de l’Etoile qui vous fera découvrir le chemin «Du grain au pain». Cette activité est réservée aux classes du degré inférieur des écoles de l’entité\, ainsi qu’aux citoyens. \nToute l’information : https://rdvta.hainaut-developpement.be/activite/en-route-pour-le-tour-des-fermes-daiseau-presles/
URL:https://rdvta.hainaut-developpement.be/event/en-route-pour-le-tour-des-fermes-daiseau-presles/
LOCATION:Ferme de l’étoile\, rue de l’Etoile 21\, AISEAU-PRESLES\, 6250\, Belgium
ATTACH;FMTTYPE=image/jpeg:https://rdvta.hainaut-developpement.be/wp-content/uploads/2026/04/austria-Moyenne.jpeg
END:VEVENT
BEGIN:VEVENT
DTSTART;TZID=Europe/Brussels:20260518T090000
DTEND;TZID=Europe/Brussels:20260522T160000
DTSTAMP:20260420T033112
CREATED:20260417T115042Z
LAST-MODIFIED:20260417T115042Z
UID:2601-1779094800-1779465600@rdvta.hainaut-developpement.be
SUMMARY:Campagne de sensibilisation dans les écoles
DESCRIPTION:Á destination des élèves de 5e et 6e primaire\, deux animations: «Agriculture et paysage» et «Biodiversité en agriculture». Pour les élèves du secondaire\, projection de la captation de la pièce de théâtre «Notre (sur)vie en terre agricole»\, réalisée par des agriculteurs\, suivie d’un débat. \nToute l’information : https://rdvta.hainaut-developpement.be/activite/campagne-de-sensibilisation-dans-les-ecoles/
URL:https://rdvta.hainaut-developpement.be/event/campagne-de-sensibilisation-dans-les-ecoles/
LOCATION:Hainaut Développement\, Boulevard Initialis 22\, Mons\, 7000
ATTACH;FMTTYPE=image/jpeg:https://rdvta.hainaut-developpement.be/wp-content/uploads/2026/04/564707628_1383627623771208_7451617494622141975_n-Moyenne.jpeg
END:VEVENT
BEGIN:VEVENT
DTSTART;TZID=Europe/Brussels:20260519T090000
DTEND;TZID=Europe/Brussels:20260519T120000
DTSTAMP:20260420T033112
CREATED:20260416T100611Z
LAST-MODIFIED:20260416T100611Z
UID:2415-1779181200-1779192000@rdvta.hainaut-developpement.be
SUMMARY:En route pour le tour des fermes d’Aiseau-Presles
DESCRIPTION:Partez à la découverte de la Ferme Marcadieu qui vous fera découvrir\n«La traite au fil du temps». Cette activité est réservée aux classes du degré inférieur des écoles de l’entité ainsi qu’aux citoyens. \n  \nToute l’information : https://rdvta.hainaut-developpement.be/activite/en-route-pour-le-tour-des-fermes-daiseau-presles-2/
URL:https://rdvta.hainaut-developpement.be/event/en-route-pour-le-tour-des-fermes-daiseau-presles-2/
LOCATION:Ferme Marcadieu\, ue d’Aiseau 109\, PONT-DE-LOUP\, 6250\, Belgium
ATTACH;FMTTYPE=image/jpeg:https://rdvta.hainaut-developpement.be/wp-content/uploads/2026/04/IMG-20250820-WA0011-Moyenne.jpeg
END:VEVENT
BEGIN:VEVENT
DTSTART;TZID=Europe/Brussels:20260520T143000
DTEND;TZID=Europe/Brussels:20260520T170000
DTSTAMP:20260420T033112
CREATED:20260414T135335Z
LAST-MODIFIED:20260414T135335Z
UID:2322-1779287400-1779296400@rdvta.hainaut-developpement.be
SUMMARY:Les MINIS à la ferme
DESCRIPTION:La Ferme du Parc ouvre ses portes aux tout-petits accompagnés d’un adulte pour une première rencontre avec les animaux. Pour les enfants de 1 à 4 ans\, cette activité dure une heure\, pour des petits groupes. \n  \nToute l’information : https://rdvta.hainaut-developpement.be/activite/les-minis-a-la-ferme/
URL:https://rdvta.hainaut-developpement.be/event/les-minis-a-la-ferme-4/
LOCATION:Ferme du Parc\, rue La Roche 13\, MONTIGNIES-LEZ-LENS\, 7870
ATTACH;FMTTYPE=image/jpeg:https://rdvta.hainaut-developpement.be/wp-content/uploads/2026/04/536277737_794422959850355_4349353895134182884_n-Moyenne.jpeg
END:VEVENT
BEGIN:VEVENT
DTSTART;TZID=Europe/Brussels:20260521T090000
DTEND;TZID=Europe/Brussels:20260521T120000
DTSTAMP:20260420T033112
CREATED:20260416T102057Z
LAST-MODIFIED:20260416T102057Z
UID:2420-1779354000-1779364800@rdvta.hainaut-developpement.be
SUMMARY:En route pour le tour des fermes d’Aiseau-Presles
DESCRIPTION:Partez à la découverte de la Ferme Wyngaert qui vous fera découvrir la transformation du lait. Cette activité est réservée aux classes du degré inférieur des écoles de l’entité ainsi qu’aux citoyens. \nToyte l’information : https://rdvta.hainaut-developpement.be/activite/en-route-pour-le-tour-des-fermes-daiseau-presles-3/
URL:https://rdvta.hainaut-developpement.be/event/en-route-pour-le-tour-des-fermes-daiseau-presles-3/
LOCATION:Ferme Wingaert\, Ferme Wyngaert – rue Grande 32 – 6250 PRESLES\, Presles\, 6250\, Belgium
ATTACH;FMTTYPE=image/jpeg:https://rdvta.hainaut-developpement.be/wp-content/uploads/2026/04/IMG-20260202-WA0000-Moyenne.jpeg
END:VEVENT
BEGIN:VEVENT
DTSTART;VALUE=DATE:20260522
DTEND;VALUE=DATE:20260523
DTSTAMP:20260420T033112
CREATED:20260414T073339Z
LAST-MODIFIED:20260414T073339Z
UID:2218-1779408000-1779494399@rdvta.hainaut-developpement.be
SUMMARY:Drive de la Ferme de Foucaumont
DESCRIPTION:Plus de 30 producteurs se rassemblent tous les deuxièmes et quatrièmes vendredis du mois pour un drive. Rendez-vous sur la plate-forme:\nhttps://www.drive-de-foucaumont.be \n  \nToutes les informations : https://rdvta.hainaut-developpement.be/activite/drive-de-la-ferme-de-foucaumont-3/
URL:https://rdvta.hainaut-developpement.be/event/drive-de-la-ferme-de-foucaumont-6/
LOCATION:Ferme de Foucaumont\, rue de Foucaumont 113\, VILLERS-SAINT-AMAND\, 7812
ATTACH;FMTTYPE=image/jpeg:https://rdvta.hainaut-developpement.be/wp-content/uploads/2025/06/Drive-de-la-ferme-de-Foucaumont-2-Moyenne.jpeg
END:VEVENT
END:VCALENDAR